BEGIN:VCALENDAR
VERSION:2.0
PRODID:-//eventon.com NONSGML v1.0//EN
CALSCALE:GREGORIAN
METHOD:PUBLISH
BEGIN:VEVENT
UID:69e9bffeee798
DTSTAMP:20260423T064518Z
DTSTART:20240608T103000Z
DTEND:20240609T190100Z
LOCATION:
SUMMARY:Fiera delle Belle Notizie
DESCRIPTION:L'8 e il 9 Giungo\,  presso la Scuola Secondaria di Prima Grado
  "Don Bosco" a Vedelago\,  si terrà la 6° Fiera delle Belle Notizie\,  or
 ganizzata dai ragazzi della scuola media. Il nostro presidente\,  Rudi Zana
 tta\,  racconterà la bella notizia scelta da alcuni degli studenti.\nhttps
 ://www.sogni.tv/events/fiera-belle-notizie-vedelago/
URL:https://www.sogni.tv/events/fiera-belle-notizie-vedelago/
END:VEVENT
END:VCALENDAR